BEGIN:VCALENDAR
VERSION:2.0
PRODID:-//Surf Culture Canada - ECPv6.15.20//NONSGML v1.0//EN
CALSCALE:GREGORIAN
METHOD:PUBLISH
X-WR-CALNAME:Surf Culture Canada
X-ORIGINAL-URL:https://surfculturecanada.ca
X-WR-CALDESC:Events for Surf Culture Canada
REFRESH-INTERVAL;VALUE=DURATION:PT1H
X-Robots-Tag:noindex
X-PUBLISHED-TTL:PT1H
BEGIN:VTIMEZONE
TZID:America/Toronto
BEGIN:DAYLIGHT
TZOFFSETFROM:-0500
TZOFFSETTO:-0400
TZNAME:EDT
DTSTART:20250309T070000
END:DAYLIGHT
BEGIN:STANDARD
TZOFFSETFROM:-0400
TZOFFSETTO:-0500
TZNAME:EST
DTSTART:20251102T060000
END:STANDARD
BEGIN:DAYLIGHT
TZOFFSETFROM:-0500
TZOFFSETTO:-0400
TZNAME:EDT
DTSTART:20260308T070000
END:DAYLIGHT
BEGIN:STANDARD
TZOFFSETFROM:-0400
TZOFFSETTO:-0500
TZNAME:EST
DTSTART:20261101T060000
END:STANDARD
BEGIN:DAYLIGHT
TZOFFSETFROM:-0500
TZOFFSETTO:-0400
TZNAME:EDT
DTSTART:20270314T070000
END:DAYLIGHT
BEGIN:STANDARD
TZOFFSETFROM:-0400
TZOFFSETTO:-0500
TZNAME:EST
DTSTART:20271107T060000
END:STANDARD
END:VTIMEZONE
BEGIN:VEVENT
DTSTART;TZID=America/Toronto:20260425T173000
DTEND;TZID=America/Toronto:20260425T200000
DTSTAMP:20260425T094156
CREATED:20260418T015451Z
LAST-MODIFIED:20260418T020626Z
UID:5747-1777138200-1777147200@surfculturecanada.ca
SUMMARY:Foildrive / Downwind Info & Social
DESCRIPTION:Foildrive / Downwind  Demo &  Social\nLocation : Kingsville (Cedar Beach then The Grove Brewery)\nDate : Saturday\, April 25 \nTime : 5:30 pm – 8:00 then (8pm – 9:30pm @ The Grove Brewery)\nCheck out the Foildrive Gen 2. Afterwards we will head to the Grove in Kingsville for some food\, drinks and festivities. \nCost : $25\nIncludes : Wetsuit Rental / 30 minutes of riding / foil gear rental\n 
URL:https://surfculturecanada.ca/event/foildrive_dw_demo/
LOCATION:Cedar Island Beach\, Canada
ATTACH;FMTTYPE=image/png:https://surfculturecanada.ca/wp-content/uploads/2026/04/website_homepage_intro_lesson_frame_capture.png
ORGANIZER;CN="Tim Blanchard":MAILTO:tim@surfculturecanada.ca
END:VEVENT
END:VCALENDAR